BEGIN:VCALENDAR
VERSION:2.0
PRODID:-//Plone.org//NONSGML plone.app.event//EN
X-WR-TIMEZONE:Brazil/East
BEGIN:VEVENT
SUMMARY:SEGUNDA REUNIÃO ORDINÁRIA DA CÂMARA MUNICIPAL DE ALTO RIO DOCE 
 - LEGISLATURA 2021/2024.
DTSTART;TZID=Brazil/East;VALUE=DATE-TIME:20210225T170000
DTEND;TZID=Brazil/East;VALUE=DATE-TIME:20210225T200000
DTSTAMP;VALUE=DATE-TIME:20260421T214511Z
UID:ae593f32592241f7859b3240ae451a6b@www.altoriodoce.mg.leg.br
CONTACT:(32) 3345-1806\, camaraaltodoriodoce@gmail.com
CREATED;VALUE=DATE-TIME:20210217T161916Z
LAST-MODIFIED;VALUE=DATE-TIME:20210217T161924Z
LOCATION:Av. Carlos Couto\, 32\, Centro\, Alto Rio Doce/MG
URL:https://www.altoriodoce.mg.leg.br/institucional/eventos/segunda-reunia
 o-ordinaria-da-camara-municipal-de-alto-rio-doce-legislatura-2021-2024
END:VEVENT
BEGIN:VTIMEZONE
TZID:Brazil/East
X-LIC-LOCATION:Brazil/East
BEGIN:STANDARD
DTSTART;VALUE=DATE-TIME:20210220T230000
TZNAME:BRT
TZOFFSETFROM:-0200
TZOFFSETTO:-0300
END:STANDARD
END:VTIMEZONE
END:VCALENDAR
