BEGIN:VCALENDAR
VERSION:2.0
PRODID:-//Plone.org//NONSGML plone.app.event//EN
X-WR-TIMEZONE:Brazil/East
BEGIN:VEVENT
SUMMARY:QUINTA REUNIÃO ORDINÁRIA DA CÂMARA MUNICIPAL DE ALTO RIO DOCE/M
 G - LEGISLATURA 2021/2024
DTSTART;TZID=Brazil/East;VALUE=DATE-TIME:20210408T170000
DTEND;TZID=Brazil/East;VALUE=DATE-TIME:20210408T200000
DTSTAMP;VALUE=DATE-TIME:20260421T215926Z
UID:52b1b759cde64b0e8e9cf968c8b72620@www.altoriodoce.mg.leg.br
CONTACT:(32) 3345-1806\, camaraaltodoriodoce@gmail.com
CREATED;VALUE=DATE-TIME:20210212T194943Z
LAST-MODIFIED;VALUE=DATE-TIME:20210212T195203Z
LOCATION:Av. Carlos Couto\, 32\, Centro\, Alto Rio Doce/MG
URL:https://www.altoriodoce.mg.leg.br/institucional/eventos/quinta-reuniao
 -ordinaria-da-camara-municipal-de-alto-rio-doce-mg-legislatura-2021-2024
END:VEVENT
BEGIN:VTIMEZONE
TZID:Brazil/East
X-LIC-LOCATION:Brazil/East
BEGIN:STANDARD
DTSTART;VALUE=DATE-TIME:20210220T230000
TZNAME:BRT
TZOFFSETFROM:-0200
TZOFFSETTO:-0300
END:STANDARD
END:VTIMEZONE
END:VCALENDAR
