BEGIN:VCALENDAR
VERSION:2.0
PRODID:-//Plone.org//NONSGML plone.app.event//EN
X-WR-TIMEZONE:Brazil/East
BEGIN:VEVENT
SUMMARY:Audiência Pública
DTSTART;TZID=Brazil/East;VALUE=DATE-TIME:20191127T180000
DTEND;TZID=Brazil/East;VALUE=DATE-TIME:20191127T193000
DTSTAMP;VALUE=DATE-TIME:20260421T214844Z
UID:69446bf643144b7ca11fa3c8384aff7a@www.altoriodoce.mg.leg.br
CREATED;VALUE=DATE-TIME:20191118T192824Z
LAST-MODIFIED;VALUE=DATE-TIME:20191118T193207Z
LOCATION:Plenário da Câmara Municipal de Alto Rio Doce
URL:https://www.altoriodoce.mg.leg.br/institucional/eventos/audiencia-publ
 ica
END:VEVENT
BEGIN:VTIMEZONE
TZID:Brazil/East
X-LIC-LOCATION:Brazil/East
BEGIN:DAYLIGHT
DTSTART;VALUE=DATE-TIME:20191020T010000
TZNAME:BRST
TZOFFSETFROM:-0300
TZOFFSETTO:-0200
END:DAYLIGHT
END:VTIMEZONE
END:VCALENDAR
